BEGIN:VCALENDAR
VERSION:2.0
PRODID:-//hacksw/handcal//NONSGML v1.0//EN
BEGIN:VEVENT
UID:f62e1b8d3ab31305613bc5a54e8f9b56aktivskola.org
DTSTAMP:20260420T232803
DTSTART:20210907T090000
DTEND:20210907T100000
SUMMARY:Nätsmart - En föreläsning från Aktiv Skola
DESCRIPTION:En föreläsning av Aktiv Skola. \n\nLäs mer om föreläsningen här: https://dev.aktivskola.org/forelasning/natsmart-2021-09-07-arskurs-4-6-4/
LOCATION:Själevadskolan Örnsköldsvik
URL:https://dev.aktivskola.org/forelasning/natsmart-2021-09-07-arskurs-4-6-4/
END:VEVENT
END:VCALENDAR