BEGIN:VCALENDAR
VERSION:2.0
PRODID:-//hacksw/handcal//NONSGML v1.0//EN
BEGIN:VEVENT
UID:84b5f380cf411906c8e81b5193c09d4daktivskola.org
DTSTAMP:20260420T033338
DTSTART:20211109T090000
DTEND:20211109T100000
SUMMARY:Nätsmart - En föreläsning från Aktiv Skola
DESCRIPTION:En föreläsning av Aktiv Skola. \n\nLäs mer om föreläsningen här: https://dev.aktivskola.org/forelasning/natsmart-2021-11-09-arskurs-4-6-5/
LOCATION:Dallidenskolan Kil
URL:https://dev.aktivskola.org/forelasning/natsmart-2021-11-09-arskurs-4-6-5/
END:VEVENT
END:VCALENDAR