BEGIN:VCALENDAR
VERSION:2.0
PRODID:-//hacksw/handcal//NONSGML v1.0//EN
BEGIN:VEVENT
UID:d13e1a0b7361dd78d5a9fc5238557f95aktivskola.org
DTSTAMP:20260423T080154
DTSTART:20211215T00
DTEND:20211215T00
SUMMARY:Nätsmart - En föreläsning från Aktiv Skola
DESCRIPTION:En föreläsning av Aktiv Skola. \n\nLäs mer om föreläsningen här: https://dev.aktivskola.org/forelasning/natsmart-2021-12-15-arskurs-4-6/
LOCATION:Björkhagaskolan Lindesberg
URL:https://dev.aktivskola.org/forelasning/natsmart-2021-12-15-arskurs-4-6/
END:VEVENT
END:VCALENDAR