BEGIN:VCALENDAR
VERSION:2.0
PRODID:-//hacksw/handcal//NONSGML v1.0//EN
BEGIN:VEVENT
UID:fbf32db2785c9c1eceb59a15c2c779b5aktivskola.org
DTSTAMP:20260421T051227
DTSTART:20211209T090000
DTEND:20211209T100000
SUMMARY:Nätsmart - En föreläsning från Aktiv Skola
DESCRIPTION:En föreläsning av Aktiv Skola. \n\nLäs mer om föreläsningen här: https://dev.aktivskola.org/forelasning/natsmart-2021-12-09-arskurs-4-5/
LOCATION:Blidsbergs skola  Blidsberg Ulricehamn
URL:https://dev.aktivskola.org/forelasning/natsmart-2021-12-09-arskurs-4-5/
END:VEVENT
END:VCALENDAR