BEGIN:VCALENDAR
VERSION:2.0
PRODID:-//hacksw/handcal//NONSGML v1.0//EN
BEGIN:VEVENT
UID:f7e36361382577ca7be92f54b7400c66aktivskola.org
DTSTAMP:20260420T103439
DTSTART:20220323T090000
DTEND:20220323T100000
SUMMARY:Nätsmart - En föreläsning från Aktiv Skola
DESCRIPTION:En föreläsning av Aktiv Skola. \n\nLäs mer om föreläsningen här: https://dev.aktivskola.org/forelasning/natsmart-2022-03-23-arskurs-4-6-2/
LOCATION:Hunnebostrands skola  Hunnebostrand
URL:https://dev.aktivskola.org/forelasning/natsmart-2022-03-23-arskurs-4-6-2/
END:VEVENT
END:VCALENDAR