BEGIN:VCALENDAR
VERSION:2.0
PRODID:-//hacksw/handcal//NONSGML v1.0//EN
BEGIN:VEVENT
UID:12f7c2849bf0f4f3a240048a0823b180aktivskola.org
DTSTAMP:20260421T223311
DTSTART:20220905T130000
DTEND:20220905T141500
SUMMARY:Nätsmart - En föreläsning från Aktiv Skola
DESCRIPTION:En föreläsning av Aktiv Skola. \n\nLäs mer om föreläsningen här: https://dev.aktivskola.org/forelasning/natsmart-2022-09-05-skolpersonal/
LOCATION:Västerbottens län
URL:https://dev.aktivskola.org/forelasning/natsmart-2022-09-05-skolpersonal/
END:VEVENT
END:VCALENDAR