BEGIN:VCALENDAR
VERSION:2.0
PRODID:-//hacksw/handcal//NONSGML v1.0//EN
BEGIN:VEVENT
UID:df2f4bb479624fe6280cf22cc32ab5ecaktivskola.org
DTSTAMP:20260421T145647
DTSTART:20221107T190000
DTEND:20221107T201500
SUMMARY:Nätsmart - En föreläsning från Aktiv Skola
DESCRIPTION:En föreläsning av Aktiv Skola. \n\nLäs mer om föreläsningen här: https://dev.aktivskola.org/forelasning/natsmart-2022-11-07-vuxna/
LOCATION:Kalmar län
URL:https://dev.aktivskola.org/forelasning/natsmart-2022-11-07-vuxna/
END:VEVENT
END:VCALENDAR