BEGIN:VCALENDAR
VERSION:2.0
PRODID:-//hacksw/handcal//NONSGML v1.0//EN
BEGIN:VEVENT
UID:75e8931ce6fbffc8918e880d63d91a83aktivskola.org
DTSTAMP:20260425T232711
DTSTART:20230320T190000
DTEND:20230320T201500
SUMMARY:Nätsmart - En föreläsning från Aktiv Skola
DESCRIPTION:En föreläsning av Aktiv Skola. \n\nLäs mer om föreläsningen här: https://dev.aktivskola.org/forelasning/natsmart-2023-03-20-vuxna/
LOCATION:Södermanlands län
URL:https://dev.aktivskola.org/forelasning/natsmart-2023-03-20-vuxna/
END:VEVENT
END:VCALENDAR