BEGIN:VCALENDAR
VERSION:2.0
PRODID:-//hacksw/handcal//NONSGML v1.0//EN
BEGIN:VEVENT
UID:6d99a0092b081f43522f2a2ba2bb7f30aktivskola.org
DTSTAMP:20260420T075508
DTSTART:20230301T090000
DTEND:20230301T100000
SUMMARY:Nätsmart - En föreläsning från Aktiv Skola
DESCRIPTION:En föreläsning av Aktiv Skola. \n\nLäs mer om föreläsningen här: https://dev.aktivskola.org/forelasning/natsmart-2023-03-01-arskurs-4-6/
LOCATION:Tingbergsskolan   Lilla Edet
URL:https://dev.aktivskola.org/forelasning/natsmart-2023-03-01-arskurs-4-6/
END:VEVENT
END:VCALENDAR