BEGIN:VCALENDAR
VERSION:2.0
PRODID:-//hacksw/handcal//NONSGML v1.0//EN
BEGIN:VEVENT
UID:91539b870d595c5b74fc1c591c7487cdaktivskola.org
DTSTAMP:20260424T062146
DTSTART:20230315T090000
DTEND:20230315T100000
SUMMARY:Nätsmart - En föreläsning från Aktiv Skola
DESCRIPTION:En föreläsning av Aktiv Skola. \n\nLäs mer om föreläsningen här: https://dev.aktivskola.org/forelasning/natsmart-2023-03-14-arskurs-5-2/
LOCATION:Skiftingehus skola  Eskilstuna
URL:https://dev.aktivskola.org/forelasning/natsmart-2023-03-14-arskurs-5-2/
END:VEVENT
END:VCALENDAR