BEGIN:VCALENDAR
VERSION:2.0
PRODID:-//hacksw/handcal//NONSGML v1.0//EN
BEGIN:VEVENT
UID:a68d8f031f13d71518a8dda6ed5c546caktivskola.org
DTSTAMP:20260423T221430
DTSTART:20180914T180000
DTEND:20180914T200000
SUMMARY:Föreläsning om sexuella övergrepp på internet - En föreläsning från Aktiv Skola
DESCRIPTION:En föreläsning av Aktiv Skola. \n\nLäs mer om föreläsningen här: https://dev.aktivskola.org/forelasning/forelasning-om-sexuella-overgrepp-pa-internet-2018-09-14/
LOCATION:Kulturhuset Väven, Umeå
URL:https://dev.aktivskola.org/forelasning/forelasning-om-sexuella-overgrepp-pa-internet-2018-09-14/
END:VEVENT
END:VCALENDAR