BEGIN:VCALENDAR
VERSION:2.0
PRODID:-//hacksw/handcal//NONSGML v1.0//EN
BEGIN:VEVENT
UID:82794e54c868dc9b8bab76d8c4853752aktivskola.org
DTSTAMP:20260424T081017
DTSTART:20191024T00
DTEND:20191024T00
SUMMARY:Nätsmart - En föreläsning från Aktiv Skola
DESCRIPTION:En föreläsning av Aktiv Skola. \n\nLäs mer om föreläsningen här: https://dev.aktivskola.org/forelasning/natsmart-2019-10-24-fm1/
LOCATION:Waldorfskolan, Örebro
URL:https://dev.aktivskola.org/forelasning/natsmart-2019-10-24-fm1/
END:VEVENT
END:VCALENDAR