BEGIN:VCALENDAR
VERSION:2.0
PRODID:-//hacksw/handcal//NONSGML v1.0//EN
BEGIN:VEVENT
UID:b495f7d0e1499ce2c1aeee341951690eaktivskola.org
DTSTAMP:20260419T172748
DTSTART:20200212T00
DTEND:20200212T00
SUMMARY:Nätsmart - En föreläsning från Aktiv Skola
DESCRIPTION:En föreläsning av Aktiv Skola. \n\nLäs mer om föreläsningen här: https://dev.aktivskola.org/forelasning/natsmart-2020-02-12-arskurs-6/
LOCATION:Enebackeskolan, Höör
URL:https://dev.aktivskola.org/forelasning/natsmart-2020-02-12-arskurs-6/
END:VEVENT
END:VCALENDAR