BEGIN:VCALENDAR
VERSION:2.0
PRODID:-//hacksw/handcal//NONSGML v1.0//EN
BEGIN:VEVENT
UID:7914880507f737f4cf7e9e052d42f8ddaktivskola.org
DTSTAMP:20260423T071834
DTSTART:20191219T00
DTEND:20191219T00
SUMMARY:Nätsmart - En föreläsning från Aktiv Skola
DESCRIPTION:En föreläsning av Aktiv Skola. \n\nLäs mer om föreläsningen här: https://dev.aktivskola.org/forelasning/natsmart-2019-12-19-elever-2/
LOCATION:Skolgårda skola, Motala
URL:https://dev.aktivskola.org/forelasning/natsmart-2019-12-19-elever-2/
END:VEVENT
END:VCALENDAR