BEGIN:VCALENDAR
VERSION:2.0
PRODID:-//hacksw/handcal//NONSGML v1.0//EN
BEGIN:VEVENT
UID:b414bbd1447484e6ee64f454a33596e1aktivskola.org
DTSTAMP:20260419T174718
DTSTART:20191202T153000
DTEND:20191202T170000
SUMMARY:Nätsmart - En föreläsning från Aktiv Skola
DESCRIPTION:En föreläsning av Aktiv Skola. \n\nLäs mer om föreläsningen här: https://dev.aktivskola.org/forelasning/natsmart-2019-12-02-kvall/
LOCATION:Strandskolan Idre, Älvdalen
URL:https://dev.aktivskola.org/forelasning/natsmart-2019-12-02-kvall/
END:VEVENT
END:VCALENDAR