BEGIN:VCALENDAR
VERSION:2.0
PRODID:-//hacksw/handcal//NONSGML v1.0//EN
BEGIN:VEVENT
UID:e4f03a3b12fdd39bc8998df173bf29e3aktivskola.org
DTSTAMP:20260423T193906
DTSTART:20201109T190000
DTEND:20201109T201500
SUMMARY:Nätsmart - En föreläsning från Aktiv Skola
DESCRIPTION:En föreläsning av Aktiv Skola. \n\nLäs mer om föreläsningen här: https://dev.aktivskola.org/forelasning/natsmart-2020-11-09-vuxna/
LOCATION:Örebro län
URL:https://dev.aktivskola.org/forelasning/natsmart-2020-11-09-vuxna/
END:VEVENT
END:VCALENDAR