BEGIN:VCALENDAR
VERSION:2.0
PRODID:-//hacksw/handcal//NONSGML v1.0//EN
BEGIN:VEVENT
UID:ab51bdde76ce197b9e0dda0a2691f516aktivskola.org
DTSTAMP:20260425T040255
DTSTART:20210128T120000
DTEND:20210128T130000
SUMMARY:Nätsmart - En föreläsning från Aktiv Skola
DESCRIPTION:En föreläsning av Aktiv Skola. \n\nLäs mer om föreläsningen här: https://dev.aktivskola.org/forelasning/natsmart-2021-01-28-arskurs-6/
LOCATION:Töcksfors skola, Årjäng
URL:https://dev.aktivskola.org/forelasning/natsmart-2021-01-28-arskurs-6/
END:VEVENT
END:VCALENDAR