BEGIN:VCALENDAR
VERSION:2.0
PRODID:-//hacksw/handcal//NONSGML v1.0//EN
BEGIN:VEVENT
UID:16a52f34e75333c23f72019b81e7096baktivskola.org
DTSTAMP:20260420T003131
DTSTART:20210428T090000
DTEND:20210428T100000
SUMMARY:Nätsmart - En föreläsning från Aktiv Skola
DESCRIPTION:En föreläsning av Aktiv Skola. \n\nLäs mer om föreläsningen här: https://dev.aktivskola.org/forelasning/natsmart-2021-04-28-arskurs-4-6/
LOCATION:Axonaskolan, Tollarp
URL:https://dev.aktivskola.org/forelasning/natsmart-2021-04-28-arskurs-4-6/
END:VEVENT
END:VCALENDAR