BEGIN:VCALENDAR
VERSION:2.0
PRODID:-//hacksw/handcal//NONSGML v1.0//EN
BEGIN:VEVENT
UID:d5b88307054e376a67c0a6d8b2077ccaaktivskola.org
DTSTAMP:20260424T144729
DTSTART:20210504T090000
DTEND:20210504T100000
SUMMARY:Nätsmart - En föreläsning från Aktiv Skola
DESCRIPTION:En föreläsning av Aktiv Skola. \n\nLäs mer om föreläsningen här: https://dev.aktivskola.org/forelasning/natsmart-2021-05-04-arskurs-5/
LOCATION:Adelövs Friskola, Tranås
URL:https://dev.aktivskola.org/forelasning/natsmart-2021-05-04-arskurs-5/
END:VEVENT
END:VCALENDAR