BEGIN:VCALENDAR
VERSION:2.0
PRODID:-//hacksw/handcal//NONSGML v1.0//EN
BEGIN:VEVENT
UID:fb7fc03671d02ae03fec7290e3f7d4a3aktivskola.org
DTSTAMP:20260425T215422
DTSTART:20210927T190000
DTEND:20210927T201500
SUMMARY:Nätsmart - En föreläsning från Aktiv Skola
DESCRIPTION:En föreläsning av Aktiv Skola. \n\nLäs mer om föreläsningen här: https://dev.aktivskola.org/forelasning/natsmart-2021-09-27-foraldrar-och-larare-2/
LOCATION:Stockholms län
URL:https://dev.aktivskola.org/forelasning/natsmart-2021-09-27-foraldrar-och-larare-2/
END:VEVENT
END:VCALENDAR